BEGIN:VCALENDAR
VERSION:2.0
PRODID:-//IP.Board Calendar 4.6.10//EN
METHOD:PUBLISH
CALSCALE:GREGORIAN
BEGIN:VTIMEZONE
TZID:Europe/London
TZURL:http://tzurl.org/zoneinfo/Europe/London
X-LIC-LOCATION:Europe/London
BEGIN:DAYLIGHT
TZOFFSETFROM:+0000
TZOFFSETTO:+0100
TZNAME:BST
DTSTART:20240331T020000Z
RRULE:FREQ=YEARLY;BYMONTH=3;BYDAY=-1SU
END:DAYLIGHT
BEGIN:STANDARD
TZOFFSETFROM:+0100
TZOFFSETTO:+0000
TZNAME:GMT
DTSTART:20241027T020000Z
RRULE:FREQ=YEARLY;BYMONTH=10;BYDAY=-1SU
END:STANDARD
END:VTIMEZONE
BEGIN:VEVENT
SUMMARY:Paranormal Club Field Trip #2 - Castle Dracula
DTSTAMP:20240919T223339Z
SEQUENCE:0
UID:45-10-fa629648335173a5b9837a09e8c963ca@kokoro.academy
ORGANIZER;CN="theckyz1":notifications@kokoro.academy
DESCRIPTION:\n	The paranormal research club will be heading out to Castl
	e Dracula after clues!\n\n\n\n	 \n\n\n\n	Outfits: Academy Uniform or Vict
	orian Outfit\;\n\n\n\n	Can bring non-student friends as long as they follo
	w the academy avatar rules\;\n\n
DTSTART;VALUE=DATE:20240922
END:VEVENT
END:VCALENDAR
