BEGIN:VCALENDAR
VERSION:2.0
PRODID:-//IP.Board Calendar 4.6.10//EN
METHOD:PUBLISH
CALSCALE:GREGORIAN
BEGIN:VTIMEZONE
TZID:Europe/London
TZURL:http://tzurl.org/zoneinfo/Europe/London
X-LIC-LOCATION:Europe/London
BEGIN:DAYLIGHT
TZOFFSETFROM:+0000
TZOFFSETTO:+0100
TZNAME:BST
DTSTART:20260329T020000Z
RRULE:FREQ=YEARLY;BYMONTH=3;BYDAY=-1SU
END:DAYLIGHT
BEGIN:STANDARD
TZOFFSETFROM:+0100
TZOFFSETTO:+0000
TZNAME:GMT
DTSTART:20261025T020000Z
RRULE:FREQ=YEARLY;BYMONTH=10;BYDAY=-1SU
END:STANDARD
END:VTIMEZONE
BEGIN:VTIMEZONE
TZID:Europe/London
TZURL:http://tzurl.org/zoneinfo/Europe/London
X-LIC-LOCATION:Europe/London
BEGIN:DAYLIGHT
TZOFFSETFROM:+0000
TZOFFSETTO:+0100
TZNAME:BST
DTSTART:20240331T020000Z
RRULE:FREQ=YEARLY;BYMONTH=3;BYDAY=-1SU
END:DAYLIGHT
BEGIN:STANDARD
TZOFFSETFROM:+0100
TZOFFSETTO:+0000
TZNAME:GMT
DTSTART:20241027T020000Z
RRULE:FREQ=YEARLY;BYMONTH=10;BYDAY=-1SU
END:STANDARD
END:VTIMEZONE
BEGIN:VTIMEZONE
TZID:Europe/London
TZURL:http://tzurl.org/zoneinfo/Europe/London
X-LIC-LOCATION:Europe/London
BEGIN:DAYLIGHT
TZOFFSETFROM:+0000
TZOFFSETTO:+0100
TZNAME:BST
DTSTART:20230326T020000Z
RRULE:FREQ=YEARLY;BYMONTH=3;BYDAY=-1SU
END:DAYLIGHT
BEGIN:STANDARD
TZOFFSETFROM:+0100
TZOFFSETTO:+0000
TZNAME:GMT
DTSTART:20231029T020000Z
RRULE:FREQ=YEARLY;BYMONTH=10;BYDAY=-1SU
END:STANDARD
END:VTIMEZONE
BEGIN:VTIMEZONE
TZID:Europe/London
TZURL:http://tzurl.org/zoneinfo/Europe/London
X-LIC-LOCATION:Europe/London
BEGIN:DAYLIGHT
TZOFFSETFROM:+0000
TZOFFSETTO:+0100
TZNAME:BST
DTSTART:20210328T020000Z
RRULE:FREQ=YEARLY;BYMONTH=3;BYDAY=-1SU
END:DAYLIGHT
BEGIN:STANDARD
TZOFFSETFROM:+0100
TZOFFSETTO:+0000
TZNAME:GMT
DTSTART:20211031T020000Z
RRULE:FREQ=YEARLY;BYMONTH=10;BYDAY=-1SU
END:STANDARD
END:VTIMEZONE
BEGIN:VTIMEZONE
TZID:Europe/London
TZURL:http://tzurl.org/zoneinfo/Europe/London
X-LIC-LOCATION:Europe/London
BEGIN:DAYLIGHT
TZOFFSETFROM:+0000
TZOFFSETTO:+0100
TZNAME:BST
DTSTART:20220327T020000Z
RRULE:FREQ=YEARLY;BYMONTH=3;BYDAY=-1SU
END:DAYLIGHT
BEGIN:STANDARD
TZOFFSETFROM:+0100
TZOFFSETTO:+0000
TZNAME:GMT
DTSTART:20221030T020000Z
RRULE:FREQ=YEARLY;BYMONTH=10;BYDAY=-1SU
END:STANDARD
END:VTIMEZONE
BEGIN:VEVENT
SUMMARY:Scripting with oshi sensei ..
DTSTAMP:20260406T142428Z
SEQUENCE:0
UID:47-1-fa629648335173a5b9837a09e8c963ca@kokoro.academy
ORGANIZER;CN="oshidashi":notifications@kokoro.academy
DESCRIPTION:\n	*sniff* .. my beautiful students .. you have been craving
	 for oshi's knowledge ... *sniff* yes ..\n\n	students\, students ..! i hav
	e craved to give it to you ..!\n\n	please prepare your beautiful brains ..
	 saturday.. scripting .. beautiful .. *sniff*\n\n	oshi\n\n
DTSTART;VALUE=DATE:20260411
RRULE:FREQ=DAILY;INTERVAL=2;COUNT=1
END:VEVENT
BEGIN:VEVENT
SUMMARY:Beautiful Sensei's 3D Fun~~(Damentals)~~
DTSTAMP:20260316T142823Z
SEQUENCE:0
UID:46-1-fa629648335173a5b9837a09e8c963ca@kokoro.academy
ORGANIZER;CN="oshidashi":notifications@kokoro.academy
DESCRIPTION:\n	sniffs\n\n\n\n	It's time\, my beautiful students\n\n\n\n	
	are you ready for me?\n\n\n\n	I'm going to teach you all about 3d...\n\n\n
	\n	 \n\n\n\n	Classroom 1-A \n\n\n\n	08 : 30 AM SLT\n\n\n\n	Be ready for m
	e...\n\n\n\n	oshi\n\n\n\n	 \n\n
DTSTART:20260325T153000Z
RRULE:FREQ=DAILY;INTERVAL=3;COUNT=2
END:VEVENT
BEGIN:VEVENT
SUMMARY:Paranormal Club Field Trip #2 - Castle Dracula
DTSTAMP:20240919T223339Z
SEQUENCE:0
UID:45-10-fa629648335173a5b9837a09e8c963ca@kokoro.academy
ORGANIZER;CN="theckyz1":notifications@kokoro.academy
DESCRIPTION:\n	The paranormal research club will be heading out to Castl
	e Dracula after clues!\n\n\n\n	 \n\n\n\n	Outfits: Academy Uniform or Vict
	orian Outfit\;\n\n\n\n	Can bring non-student friends as long as they follo
	w the academy avatar rules\;\n\n
DTSTART;VALUE=DATE:20240922
END:VEVENT
BEGIN:VEVENT
SUMMARY:Yearbook Photo 2024
DTSTAMP:20240826T111351Z
SEQUENCE:0
UID:44-1-fa629648335173a5b9837a09e8c963ca@kokoro.academy
ORGANIZER;CN="extrude.ragu":notifications@kokoro.academy
DESCRIPTION:\n	Yearbook Photo 2024 📷\n\n\n\n	Our Student Yearbook Pho
	to will be on Saturday the 28th of September at 2PM SLT this year!\n\n\n\n
		Add the date to your calendar so you don't forget! Looking forward to see
	ing you all~\n\n\n\n	~ Captain\n\n\n\n	 \n\n
DTSTART:20240928T210000Z
END:VEVENT
BEGIN:VEVENT
SUMMARY:Yearbook Photo 2023
DTSTAMP:20230616T205925Z
SEQUENCE:0
UID:40-1-fa629648335173a5b9837a09e8c963ca@kokoro.academy
ORGANIZER;CN="extrude.ragu":notifications@kokoro.academy
DESCRIPTION:\n	📸 Yearbook Photo 2023\n\n\n\n	 \n\n\n\n	Our Yearbook 
	photo will happen on the 17th of September at 2PM SLT this year!\n\n\n\n	M
	ark your calendar so you don't forget! We want all of you in our picture!\
	n\n
DTSTART:20230917T210000Z
END:VEVENT
BEGIN:VEVENT
SUMMARY:Yearbook Photo
DTSTAMP:20210823T003916Z
SEQUENCE:0
UID:2-1-fa629648335173a5b9837a09e8c963ca@kokoro.academy
ORGANIZER;CN="extrude.ragu":notifications@kokoro.academy
DESCRIPTION:\n	 📸Student Yearbook Photo📸\n\n\n\n	We will be takin
	g photo's for the yearbook on Sunday the 5th of September at 2PM SLT\n\n\n
	\n	To our students - Come down we want all of you in our picture!\n\n\n\n	
	Yes that means you! \n\n\n\n	We'll have a nice photo to look back fondly o
	n. Don't skip this one\, you'll regret it if you don't!\n\n\n\n	~ Ai\n\n
DTSTART:20210905T130000Z
END:VEVENT
BEGIN:VEVENT
SUMMARY:Yearbook Photo 2022
DTSTAMP:20220825T215603Z
SEQUENCE:0
UID:38-1-fa629648335173a5b9837a09e8c963ca@kokoro.academy
ORGANIZER;CN="extrude.ragu":notifications@kokoro.academy
DESCRIPTION:\n	\n\n\n	📸 Student Yearbook Photo 📸\n\n\n\n	Hey every
	one! This years photo day is Sunday the 25th of September at 2PM SLT\n\n\n
	\n	This is a once a year event! Come get your photo taken together with ev
	eryone including our old and new students!~\n\n\n\n	To help the event run 
	smoothly\, please arrive as early as you can as it will be busy!\n\n\n\n	
	 \n\n\n\n	Got work/commitments?\n\n\n\n	We can still get you in the pictu
	re! Get your hands on an Android phone and so long as you log in with a mo
	bile viewer such as Lumiya we can sit you in with everyone!\n\n\n\n	I'll b
	e asleep!\n\n\n\n	We've done our best to schedule the event to be during t
	he day for most students - However it is impossible to do it at a time tha
	t is daytime for everyone because our students are from all around the wor
	ld - We understand the time is not great for everyone. We think you'll agr
	ee it's still worth being there for - Get an early night if you can \, we 
	will make the photo itself as quick as possible so you can go back to slee
	p after! 🙏\n\n\n\n	I want to bring a friend!\n\n\n\n	If you wish to bri
	ng a friend\, you may do so but please let me know on the day - To manage 
	crowds\, the ticket machines will only be issuing student tickets on the d
	ay and I will need to let them through. (With plenty of notice\, I will li
	kely have my hands full towards the start of the event!)\n\n\n\n	~ Captain
	\n\n
DTSTART:20220925T210000Z
END:VEVENT
BEGIN:VEVENT
SUMMARY:Valentines Park Event
DTSTAMP:20220205T230053Z
SEQUENCE:0
UID:24-1-fa629648335173a5b9837a09e8c963ca@kokoro.academy
ORGANIZER;CN="extrude.ragu":notifications@kokoro.academy
DESCRIPTION:\n	Come join us for fun and activities at Valentines Park!\n
	\n
DTSTART:20220213T190000Z
END:VEVENT
BEGIN:VEVENT
SUMMARY:Deco Club Meeting
DTSTAMP:20220205T224824Z
SEQUENCE:0
UID:23-1-fa629648335173a5b9837a09e8c963ca@kokoro.academy
ORGANIZER;CN="extrude.ragu":notifications@kokoro.academy
DESCRIPTION:\n	aa\n\n
DTSTART:20220206T190000Z
END:VEVENT
BEGIN:VEVENT
SUMMARY:Curry/Deco Club Meeting 3
DTSTAMP:20220129T221619Z
SEQUENCE:0
UID:22-1-fa629648335173a5b9837a09e8c963ca@kokoro.academy
ORGANIZER;CN="extrude.ragu":notifications@kokoro.academy
DESCRIPTION:\n	Tunnel of love!\n\n
DTSTART:20220205T190000Z
END:VEVENT
BEGIN:VEVENT
SUMMARY:Curry Club and Deco Club Meeting
DTSTAMP:20220115T203959Z
SEQUENCE:0
UID:20-1-fa629648335173a5b9837a09e8c963ca@kokoro.academy
ORGANIZER;CN="extrude.ragu":notifications@kokoro.academy
DESCRIPTION:\n	Amusement parks and heart men~\n\n\n\n	\n
DTSTART:20220122T190000Z
END:VEVENT
BEGIN:VEVENT
SUMMARY:Club Leader Meeting
DTSTAMP:20211229T141633Z
SEQUENCE:0
UID:17-1-fa629648335173a5b9837a09e8c963ca@kokoro.academy
ORGANIZER;CN="extrude.ragu":notifications@kokoro.academy
DESCRIPTION:\n	A meeting for Club Leaders to review how things are going
	 and plan for 2022~\n\n
DTSTART:20220115T190000Z
END:VEVENT
BEGIN:VEVENT
SUMMARY:Kokoro Academy Holiday Party!
DTSTAMP:20211218T074209Z
SEQUENCE:0
UID:16-1-fa629648335173a5b9837a09e8c963ca@kokoro.academy
ORGANIZER;CN="duckie.banana":notifications@kokoro.academy
DESCRIPTION:\n	Hope to see you all there\, and have a merry Christmas\, 
	and happy holidays ! 🎄\n\n
DTSTART:20211225T000000Z
DTEND:20211225T010000Z
END:VEVENT
BEGIN:VEVENT
SUMMARY:Dance Club Tryouts
DTSTAMP:20211122T011358Z
SEQUENCE:0
UID:10-1-fa629648335173a5b9837a09e8c963ca@kokoro.academy
ORGANIZER;CN="extrude.ragu":notifications@kokoro.academy
DESCRIPTION:\n	6pm SLT\n\n
DTSTART:20211205T020000Z
END:VEVENT
BEGIN:VEVENT
SUMMARY:Dance Club Halloween Event
DTSTAMP:20210812T104647Z
SEQUENCE:0
UID:1-1-fa629648335173a5b9837a09e8c963ca@kokoro.academy
ORGANIZER;CN="extrude.ragu":notifications@kokoro.academy
DESCRIPTION:\n	Details in the thread below:-\n\n\n\n\n	 \n\n
DTSTART:20211031T210000Z
END:VEVENT
END:VCALENDAR
